BEGIN:VCALENDAR
VERSION:2.0
PRODID:-//Sabre//Sabre VObject 3.5.3//EN
CALSCALE:GREGORIAN
BEGIN:VEVENT
UID:gwbase-vobject-9ea1f3ec-d310-4ccc-b964-68d819f6aa13
SUMMARY:EUFASD 2022
DTSTAMP:20260424T000419Z
DTSTART:20220912T060000Z
ORGANIZER;CN=epilepsiselskapet:mailto:noreply@epilepsiselskapet.no
DTEND:20220914T100000Z
DESCRIPTION: \n\nRESEARCH CONFERENCE FROM 12TH TO 14TH SEPTEMBER 2022\, CLA
 RION HOTEL\nTYHOLMEN\, ARENDAL\, NORWAY\n\nCOVID-19\n\nDue to the uncertai
 nties around the Covid-19 pandemic\, the Board feels\nthat the wisest deci
 sion is to postpone the conference until September\nof 2022. We are very s
 orry not to meet you in a few months\, but hope\nto see in 2022! You will 
 be able to get a refund of your registration\nfee if you have already paid
 \, or alternatively\, you can simply keep\nthe registration which will app
 ly next year. \n\nGro CC Løhaugen Conference Chair\n\nJon Skranes Head o
 f scientific planning committee\n
X-ALT-DESC;FMTTYPE=text/html:<!DOCTYPE HTML PUBLIC "-//W3C//DTD HTML 3.2//E
 N">\n<HTML>\n<HEAD>\n<TITLE>EUFASD 2022</TITLE>\n</HEAD>\n<BODY>\n<a id="e
 ztoc14215_0_1"></a>    <h3>Research conference from 12th to 14th September
  2022\, Clarion Hotel Tyholmen\, Arendal\, Norway</h3>\n<a id="eztoc14215_
 0_2"></a>    <h3>COVID-19</h3><p>Due to the uncertainties around the Covid
 -19 pandemic\, the Board feels that the wisest decision is to postpone the
  conference until September of 2022. We are very sorry not to meet you in 
 a few months\, but hope to see in 2022! You will be able to get a refund o
 f your registration fee if you have already paid\, or alternatively\, you 
 can simply keep the registration which will apply next year.&nbsp\;</p><p>
 Gro CC Løhaugen Conference Chair</p><p>Jon Skranes Head of scientific pla
 nning committee</p></BODY></HTML>
END:VEVENT
END:VCALENDAR
