BEGIN:VCALENDAR
VERSION:2.0
PRODID:-//Sabre//Sabre VObject 3.5.3//EN
CALSCALE:GREGORIAN
BEGIN:VEVENT
UID:gwbase-vobject-e5c6369b-1142-4016-988b-a2e19822d47c
SUMMARY:35th International Epilepsy Congress 2-6 September 2023 | Dublin\, 
 Ireland
DTSTAMP:20260424T143218Z
DTSTART:20230902T060000Z
ORGANIZER;CN=epilepsiselskapet:mailto:noreply@epilepsiselskapet.no
DTEND:20230906T140000Z
DESCRIPTION: 
X-ALT-DESC;FMTTYPE=text/html:<!DOCTYPE HTML PUBLIC "-//W3C//DTD HTML 3.2//E
 N">\n<HTML>\n<HEAD>\n<TITLE>35th International Epilepsy Congress 2-6 Septe
 mber 2023 | Dublin\, Ireland</TITLE>\n</HEAD>\n<BODY></BODY></HTML>
END:VEVENT
END:VCALENDAR
